BEGIN:VCALENDAR
VERSION:2.0
PRODID:-//Alrahmah Community Development - ECPv5.14.1//NONSGML v1.0//EN
CALSCALE:GREGORIAN
METHOD:PUBLISH
X-WR-CALNAME:Alrahmah Community Development
X-ORIGINAL-URL:https://alrahmahcd.org
X-WR-CALDESC:Events for Alrahmah Community Development
REFRESH-INTERVAL;VALUE=DURATION:PT1H
X-Robots-Tag:noindex
X-PUBLISHED-TTL:PT1H
BEGIN:VTIMEZONE
TZID:UTC
BEGIN:STANDARD
TZOFFSETFROM:+0000
TZOFFSETTO:+0000
TZNAME:UTC
DTSTART:20250101T000000
END:STANDARD
END:VTIMEZONE
BEGIN:VEVENT
DTSTART;TZID=UTC:20250919T080000
DTEND;TZID=UTC:20250919T170000
DTSTAMP:20260425T115225
CREATED:20260302T163003Z
LAST-MODIFIED:20260302T163213Z
UID:11616-1758268800-1758301200@alrahmahcd.org
SUMMARY:Alrhamah Bazar london
DESCRIPTION:A fundraising bazaar event.
URL:https://alrahmahcd.org/event/alrhamah-bazar-london/
CATEGORIES:Alrahmah Events
ATTACH;FMTTYPE=image/jpeg:https://alrahmahcd.org/wp-content/uploads/2026/03/IMG_9365.jpeg
END:VEVENT
END:VCALENDAR