BEGIN:VCALENDAR
VERSION:2.0
PRODID:-//Alrahmah Community Development - ECPv5.14.1//NONSGML v1.0//EN
CALSCALE:GREGORIAN
METHOD:PUBLISH
X-WR-CALNAME:Alrahmah Community Development
X-ORIGINAL-URL:https://alrahmahcd.org
X-WR-CALDESC:Events for Alrahmah Community Development
REFRESH-INTERVAL;VALUE=DURATION:PT1H
X-Robots-Tag:noindex
X-PUBLISHED-TTL:PT1H
BEGIN:VTIMEZONE
TZID:UTC
BEGIN:STANDARD
TZOFFSETFROM:+0000
TZOFFSETTO:+0000
TZNAME:UTC
DTSTART:20260101T000000
END:STANDARD
END:VTIMEZONE
BEGIN:VEVENT
DTSTART;TZID=UTC:20260307T160000
DTEND;TZID=UTC:20260307T200000
DTSTAMP:20260423T144638
CREATED:20260302T172026Z
LAST-MODIFIED:20260317T164229Z
UID:11625-1772899200-1772913600@alrahmahcd.org
SUMMARY:Ramadan Iftar
DESCRIPTION:
URL:https://alrahmahcd.org/event/ramadan-iftar/
LOCATION:The Stow Centre\, 258 Harrow Road\, W2 5ES\, United Kingdom
CATEGORIES:Alrahmah Events
ATTACH;FMTTYPE=image/jpeg:https://alrahmahcd.org/wp-content/uploads/2026/03/WhatsApp-Image-2026-03-17-at-22.03.55.jpeg
END:VEVENT
END:VCALENDAR