BEGIN:VCALENDAR
VERSION:2.0
PRODID:-//Alrahmah Community Development - ECPv5.14.1//NONSGML v1.0//EN
CALSCALE:GREGORIAN
METHOD:PUBLISH
X-WR-CALNAME:Alrahmah Community Development
X-ORIGINAL-URL:https://alrahmahcd.org
X-WR-CALDESC:Events for Alrahmah Community Development
REFRESH-INTERVAL;VALUE=DURATION:PT1H
X-Robots-Tag:noindex
X-PUBLISHED-TTL:PT1H
BEGIN:VTIMEZONE
TZID:UTC
BEGIN:STANDARD
TZOFFSETFROM:+0000
TZOFFSETTO:+0000
TZNAME:UTC
DTSTART:20260101T000000
END:STANDARD
END:VTIMEZONE
BEGIN:VEVENT
DTSTART;TZID=UTC:20260411T160000
DTEND;TZID=UTC:20260411T210000
DTSTAMP:20260423T123235
CREATED:20260302T173507Z
LAST-MODIFIED:20260302T173507Z
UID:11628-1775923200-1775941200@alrahmahcd.org
SUMMARY:Sudan Heritage Day
DESCRIPTION:
URL:https://alrahmahcd.org/event/sudan-heritage-day/
LOCATION:Porchester Hall\, 45 Porchester Road\, London\, London\, United Kingdom
CATEGORIES:Alrahmah Events
END:VEVENT
END:VCALENDAR