BEGIN:VCALENDAR
VERSION:2.0
PRODID:-//Alrahmah Community Development - ECPv5.14.1//NONSGML v1.0//EN
CALSCALE:GREGORIAN
METHOD:PUBLISH
X-WR-CALNAME:Alrahmah Community Development
X-ORIGINAL-URL:https://alrahmahcd.org
X-WR-CALDESC:Events for Alrahmah Community Development
REFRESH-INTERVAL;VALUE=DURATION:PT1H
X-Robots-Tag:noindex
X-PUBLISHED-TTL:PT1H
BEGIN:VTIMEZONE
TZID:UTC
BEGIN:STANDARD
TZOFFSETFROM:+0000
TZOFFSETTO:+0000
TZNAME:UTC
DTSTART:20170101T000000
END:STANDARD
END:VTIMEZONE
BEGIN:VEVENT
DTSTART;TZID=UTC:20260411T160000
DTEND;TZID=UTC:20260411T210000
DTSTAMP:20260423T110239
CREATED:20260302T173507Z
LAST-MODIFIED:20260302T173507Z
UID:11628-1775923200-1775941200@alrahmahcd.org
SUMMARY:Sudan Heritage Day
DESCRIPTION:
URL:https://alrahmahcd.org/event/sudan-heritage-day/
LOCATION:Porchester Hall\, 45 Porchester Road\, London\, London\, United Kingdom
CATEGORIES:Alrahmah Events
END:VEVENT
BEGIN:VEVENT
DTSTART;TZID=UTC:20260307T160000
DTEND;TZID=UTC:20260307T200000
DTSTAMP:20260423T110239
CREATED:20260302T172026Z
LAST-MODIFIED:20260317T164229Z
UID:11625-1772899200-1772913600@alrahmahcd.org
SUMMARY:Ramadan Iftar
DESCRIPTION:
URL:https://alrahmahcd.org/event/ramadan-iftar/
LOCATION:The Stow Centre\, 258 Harrow Road\, W2 5ES\, United Kingdom
CATEGORIES:Alrahmah Events
ATTACH;FMTTYPE=image/jpeg:https://alrahmahcd.org/wp-content/uploads/2026/03/WhatsApp-Image-2026-03-17-at-22.03.55.jpeg
END:VEVENT
BEGIN:VEVENT
DTSTART;TZID=UTC:20260117T160000
DTEND;TZID=UTC:20260117T200000
DTSTAMP:20260423T110239
CREATED:20260305T091929Z
LAST-MODIFIED:20260305T091929Z
UID:11615-1768665600-1768680000@alrahmahcd.org
SUMMARY:Fundraising event for Alfasher
DESCRIPTION:
URL:https://alrahmahcd.org/event/fundraising-event-for-alfasher/
LOCATION:Alfasher city\, Sudan\, alfasher\, Sudan
CATEGORIES:Alrahmah Events
ATTACH;FMTTYPE=image/jpeg:https://alrahmahcd.org/wp-content/uploads/2026/03/IMG_9366.jpeg
END:VEVENT
BEGIN:VEVENT
DTSTART;TZID=UTC:20251122T080000
DTEND;TZID=UTC:20251122T170000
DTSTAMP:20260423T110239
CREATED:20260302T163730Z
LAST-MODIFIED:20260302T163730Z
UID:11619-1763798400-1763830800@alrahmahcd.org
SUMMARY:Oxford University researchers Alrahmah participation
DESCRIPTION:A delegation from Alrahmah attended the lecture Sovereignty in Question: \nSudan’s Boury tines with Egypt & Ethiopia.
URL:https://alrahmahcd.org/event/oxford-university-researchers-alrahmah-participation/
CATEGORIES:Alrahmah Events
ATTACH;FMTTYPE=image/jpeg:https://alrahmahcd.org/wp-content/uploads/2026/03/IMG_9363.jpeg
END:VEVENT
BEGIN:VEVENT
DTSTART;TZID=UTC:20250919T080000
DTEND;TZID=UTC:20250919T170000
DTSTAMP:20260423T110239
CREATED:20260302T163003Z
LAST-MODIFIED:20260302T163213Z
UID:11616-1758268800-1758301200@alrahmahcd.org
SUMMARY:Alrhamah Bazar london
DESCRIPTION:A fundraising bazaar event.
URL:https://alrahmahcd.org/event/alrhamah-bazar-london/
CATEGORIES:Alrahmah Events
ATTACH;FMTTYPE=image/jpeg:https://alrahmahcd.org/wp-content/uploads/2026/03/IMG_9365.jpeg
END:VEVENT
BEGIN:VEVENT
DTSTART;VALUE=DATE:20220813
DTEND;VALUE=DATE:20220814
DTSTAMP:20260423T110239
CREATED:20221102T090709Z
LAST-MODIFIED:20221102T121129Z
UID:5769-1660348800-1660435199@alrahmahcd.org
SUMMARY:Alrahmah Community development Summer Party 2022
DESCRIPTION:
URL:https://alrahmahcd.org/event/alrahmah-community-development-summer-party-2022/
LOCATION:advent centre\, London\, advent centre\,\, London
CATEGORIES:Alrahmah Events
ATTACH;FMTTYPE=image/jpeg:https://alrahmahcd.org/wp-content/uploads/2022/11/WhatsApp-Image-2022-11-02-at-10.51.56-AM.jpeg
END:VEVENT
BEGIN:VEVENT
DTSTART;VALUE=DATE:20220601
DTEND;VALUE=DATE:20220602
DTSTAMP:20260423T110239
CREATED:20220806T093646Z
LAST-MODIFIED:20220806T145525Z
UID:5755-1654041600-1654127999@alrahmahcd.org
SUMMARY:ACD eid event
DESCRIPTION:
URL:https://alrahmahcd.org/event/acd-eid-event/
LOCATION:London\, United Kingdom
CATEGORIES:Alrahmah Events
END:VEVENT
BEGIN:VEVENT
DTSTART;VALUE=DATE:20220409
DTEND;VALUE=DATE:20220410
DTSTAMP:20260423T110239
CREATED:20220418T134150Z
LAST-MODIFIED:20220420T070715Z
UID:5661-1649462400-1649548799@alrahmahcd.org
SUMMARY:Alrahmah Annual Ramdan Iftar
DESCRIPTION:
URL:https://alrahmahcd.org/event/alrahmah-annual-ramdan-iftar/
CATEGORIES:Alrahmah Events
ATTACH;FMTTYPE=image/jpeg:https://alrahmahcd.org/wp-content/uploads/2022/04/PHOTO-2022-04-10-09-39-23.jpg
END:VEVENT
BEGIN:VEVENT
DTSTART;TZID=UTC:20220116T000000
DTEND;TZID=UTC:20220125T235900
DTSTAMP:20260423T110239
CREATED:20220103T084819Z
LAST-MODIFIED:20220420T070743Z
UID:5576-1642291200-1643155140@alrahmahcd.org
SUMMARY:إعلان فوج الرحمة
DESCRIPTION:بسم الله الرحمن الرحيم \nمنظمة الرحمة الخيرية بلندن \nإعلان  فوج الرحمة\nلعمرة عام. 2022م  1442 هجرية \nبشري سارة للمعتمرين \nقال تعالي \n(وَإِنْ تَعُدُّوا نِعْمَةَ اللَّهِ لَا تُحْصُوهَا ۗ إِنَّ اللَّهَ لَغَفُورٌ رَحِيمٌ)\n(وَمَا بِكُمْ مِنْ نِعْمَةٍ فَمِنَ اللَّهِ َۖ)\n{صدق الله العظيم} \nالحمد لله الذي بنعمته تتم الصالحات \nتبشر منظمة الرحمة الخيرية جمهورها الكريم بفتح باب الحج والعمرة لشهر فبراير 2022 لزيارة بيت الله الحرام وآداء مناسك العمرة ثم زيارة المدينة المنورة والمزارات مع توفير سبل الراحة والسلامة \nوذلك مع مراعاة للوائح وزاره الصحة البريطانية والسعوديه و الحج والعمرة ومنظمة الصحة العالمية والخطوط الجوية وكالات السفر لارشادات المسافرين ولوائح التطعيم و الصحة وحالات الطوارئ للكورونا COVID19 \nوبأسعار مخفضة ويعتبر هذا الفوج هو الأول منذ جائحة كرونا COVID19 وخاصة للمجتمع السوداني بالمملكة المتحدة \nويعد هذا العمل إضافة ومواصلة لخدمات منظمة الرحمة الخيرية لتطوير المجتمع ببريطانيا \nونسأل الله لكم التوفيق و الحفظ والسلامه و هو ولي ذلك والقادر عليه \nسارع سارع بالتسجيل والسداد الفوري \nوالاماكن محدودة و الرحلة قابلة للتغيير علي حسب قرارات الدولة للسفر COVID 19 \nلمزيد من المعلومات والإستفسار \nالرجاء الإتصال بلجنة الحج والعمرة \nعلي أرقام الهواتف التالية \nUmrah and Hajj Committee\nرائيس لجنة الحج والعمرة \nNabil Khalil 07943569880 \nSalma Farfur 07861961872 & WhatsApp 07584974067 \nGamila Khalil 07584974067 \nMaysoon Haj Al Mahi 07579228016 \nBusiyna Musa 07415025510 \nMuna Idris 07950479683 \nNahla Taha 07460224870 \nUmaima Al Sheikh 07908006269 \nSahar Hamza 07539427028 \nSaeida Mantaren 07961789682 \nوسوف نرفق لكم تفاصيل الرحلة وأوراق الدعاية والإعلان لاحقا \nإعلام منظمة الرحمة الخيرية بلندن\n{لجنة الحج والعمرة} \nمنظمة الرحمة الخيرية لتطوير المجتمع\nفوج الرحمة للعمرة فبراير 2022
URL:https://alrahmahcd.org/event/%d8%a5%d8%b9%d9%84%d8%a7%d9%86-%d9%81%d9%88%d8%ac-%d8%a7%d9%84%d8%b1%d8%ad%d9%85%d8%a9/
CATEGORIES:Alrahmah Events
END:VEVENT
BEGIN:VEVENT
DTSTART;VALUE=DATE:20191208
DTEND;VALUE=DATE:20191209
DTSTAMP:20260423T110239
CREATED:20210902T083402Z
LAST-MODIFIED:20220420T070754Z
UID:4660-1575763200-1575849599@alrahmahcd.org
SUMMARY:Alrahmah Community Development celebration
DESCRIPTION:Alrahmah Community Development celebration \n\n\nAdvent Centre London \n\n\nPart of Alrahma community engagements
URL:https://alrahmahcd.org/event/alrahmah-community-development-celebration/
LOCATION:London\, United Kingdom
CATEGORIES:Alrahmah Events
ATTACH;FMTTYPE=image/jpeg:https://alrahmahcd.org/wp-content/uploads/2021/07/c615ff4a-79b4-475c-8484-0e4cb494a035.jpg
END:VEVENT
BEGIN:VEVENT
DTSTART;VALUE=DATE:20191020
DTEND;VALUE=DATE:20191021
DTSTAMP:20260423T110239
CREATED:20210902T072726Z
LAST-MODIFIED:20220420T070802Z
UID:4635-1571529600-1571615999@alrahmahcd.org
SUMMARY:Alrahmah community development visited the community in Coventry
DESCRIPTION:As part of the city link project\, Alrahmah community development visited the community in Coventry to introduce Alrahmah community development sevices. The event also included a presentation elaborating Alrahmah’s aims and objectives.
URL:https://alrahmahcd.org/event/4635/
CATEGORIES:Alrahmah Events
ATTACH;FMTTYPE=image/jpeg:https://alrahmahcd.org/wp-content/uploads/2021/09/IMG_4133-scaled.jpg
END:VEVENT
BEGIN:VEVENT
DTSTART;VALUE=DATE:20190929
DTEND;VALUE=DATE:20190930
DTSTAMP:20260423T110239
CREATED:20210902T082915Z
LAST-MODIFIED:20220420T070809Z
UID:4657-1569715200-1569801599@alrahmahcd.org
SUMMARY:Alrahmah Community Development participation in seminar
DESCRIPTION:Alrahmah Community Development participation in seminar \n\n\nA gift for Your Loved Ones \n\n\nTeebah Foundation & Eternal Gardens\, London.
URL:https://alrahmahcd.org/event/alrahmah-community-development-participation-in-seminar/
LOCATION:London\, United Kingdom
CATEGORIES:Alrahmah Events
ATTACH;FMTTYPE=image/jpeg:https://alrahmahcd.org/wp-content/uploads/2021/09/Screenshot_20211119-112309_YouTube.jpg
END:VEVENT
BEGIN:VEVENT
DTSTART;VALUE=DATE:20190718
DTEND;VALUE=DATE:20190719
DTSTAMP:20260423T110239
CREATED:20210902T082306Z
LAST-MODIFIED:20220420T070817Z
UID:4651-1563408000-1563494399@alrahmahcd.org
SUMMARY:Al-Rayan Bank Eid Dinner
DESCRIPTION:Alrahmah Community Development values it’s supporters and sponsors\, actively aiming to establish relationships and connections with other service providers. London.
URL:https://alrahmahcd.org/event/al-rayan-bank-eid-dinner/
LOCATION:London\, United Kingdom
CATEGORIES:Alrahmah Events
ATTACH;FMTTYPE=image/jpeg:https://alrahmahcd.org/wp-content/uploads/2021/07/96e9ddca-3de8-412f-bd0c-7b41c41d891a.jpg
END:VEVENT
BEGIN:VEVENT
DTSTART;VALUE=DATE:20190525
DTEND;VALUE=DATE:20190526
DTSTAMP:20260423T110239
CREATED:20210913T134512Z
LAST-MODIFIED:20220420T070826Z
UID:4756-1558742400-1558828799@alrahmahcd.org
SUMMARY:Alrahmah Community Development organised the annual Iftar during the holy month of Ramadan.
DESCRIPTION:Alrahmah Community Development organised the annual Iftar during the holy month of Ramadan.
URL:https://alrahmahcd.org/event/alrahmah-community-development-organised-the-annual-iftar-during-the-holy-month-of-ramadan/
CATEGORIES:Alrahmah Events
ATTACH;FMTTYPE=image/png:https://alrahmahcd.org/wp-content/uploads/2021/07/IMG_1155.png
END:VEVENT
BEGIN:VEVENT
DTSTART;VALUE=DATE:20190525
DTEND;VALUE=DATE:20190526
DTSTAMP:20260423T110239
CREATED:20210902T085610Z
LAST-MODIFIED:20220420T070837Z
UID:4668-1558742400-1558828799@alrahmahcd.org
SUMMARY:Alrahmah Community Development organised the annual Iftar
DESCRIPTION:Alrahmah Community Development organised the annual Iftar during the holy month of Ramadan.
URL:https://alrahmahcd.org/event/alrahmah-community-development-organised-the-annual-iftar/
LOCATION:London\, United Kingdom
CATEGORIES:Alrahmah Events
END:VEVENT
BEGIN:VEVENT
DTSTART;VALUE=DATE:20190409
DTEND;VALUE=DATE:20190410
DTSTAMP:20260423T110239
CREATED:20210902T073509Z
LAST-MODIFIED:20220420T070846Z
UID:4637-1554768000-1554854399@alrahmahcd.org
SUMMARY:Alrahmah was invited by Mayor of Croydon Hon\, councillor
DESCRIPTION:Bernadette Khan to attend the special business event for professional networking in South London and Surrey at Croydon town Hall. It was a successful event.
URL:https://alrahmahcd.org/event/alrahamah-was-invited-by-mayor-of-croydon-hon-councillor/
LOCATION:South London\, United Kingdom
CATEGORIES:Alrahmah Events
ATTACH;FMTTYPE=image/jpeg:https://alrahmahcd.org/wp-content/uploads/2021/10/IMG_3684.jpg
END:VEVENT
BEGIN:VEVENT
DTSTART;VALUE=DATE:20181112
DTEND;VALUE=DATE:20181113
DTSTAMP:20260423T110239
CREATED:20210902T074133Z
LAST-MODIFIED:20220420T070855Z
UID:4640-1541980800-1542067199@alrahmahcd.org
SUMMARY:Alrahmah Community Development participation in seminar about Islamic Banking and Finance
DESCRIPTION:Alrahmah Community Development participation in seminar about Islamic Banking and Finance\, London.
URL:https://alrahmahcd.org/event/4640/
LOCATION:London\, United Kingdom
CATEGORIES:Alrahmah Events
ATTACH;FMTTYPE=image/jpeg:https://alrahmahcd.org/wp-content/uploads/2021/09/Screenshot_20211119-112548_YouTube.jpg
END:VEVENT
BEGIN:VEVENT
DTSTART;VALUE=DATE:20180825
DTEND;VALUE=DATE:20180826
DTSTAMP:20260423T110239
CREATED:20210902T080732Z
LAST-MODIFIED:20220420T070906Z
UID:4644-1535155200-1535241599@alrahmahcd.org
SUMMARY:Alrahmah Community Development organised a Eid celebration
DESCRIPTION:Alrahmah Community Development organised a Eid celebration event bringing the community together in London.
URL:https://alrahmahcd.org/event/4644/
LOCATION:London\, United Kingdom
CATEGORIES:Alrahmah Events
ATTACH;FMTTYPE=image/png:https://alrahmahcd.org/wp-content/uploads/2021/07/IMG_1171.png
END:VEVENT
BEGIN:VEVENT
DTSTART;VALUE=DATE:20180806
DTEND;VALUE=DATE:20180807
DTSTAMP:20260423T110239
CREATED:20210701T130427Z
LAST-MODIFIED:20220420T070915Z
UID:4224-1533513600-1533599999@alrahmahcd.org
SUMMARY:Al Rahmah Group Hajj
DESCRIPTION:
URL:https://alrahmahcd.org/event/al-rahmah-group-hajj/
LOCATION:Saudi Arabia\, Saudi Arabia
CATEGORIES:Alrahmah Events
ATTACH;FMTTYPE=image/jpeg:https://alrahmahcd.org/wp-content/uploads/2021/07/aa87f846-6db9-42d0-aba6-9517d14e1740.jpg
END:VEVENT
BEGIN:VEVENT
DTSTART;VALUE=DATE:20180714
DTEND;VALUE=DATE:20180715
DTSTAMP:20260423T110239
CREATED:20210701T130227Z
LAST-MODIFIED:20220420T070924Z
UID:4221-1531526400-1531612799@alrahmahcd.org
SUMMARY:Al Rahmah Youth Outing
DESCRIPTION:
URL:https://alrahmahcd.org/event/al-rahmah-youth-outing/
LOCATION:Brighton\, United Kingdom
CATEGORIES:Alrahmah Events
END:VEVENT
BEGIN:VEVENT
DTSTART;VALUE=DATE:20180603
DTEND;VALUE=DATE:20180604
DTSTAMP:20260423T110239
CREATED:20210701T125502Z
LAST-MODIFIED:20220420T070953Z
UID:4213-1527984000-1528070399@alrahmahcd.org
SUMMARY:Annual Ramadan Iftar
DESCRIPTION:
URL:https://alrahmahcd.org/event/annual-ramadan-iftar-3/
LOCATION:London\, United Kingdom
CATEGORIES:Alrahmah Events
ATTACH;FMTTYPE=image/png:https://alrahmahcd.org/wp-content/uploads/2021/07/IMG_1155.png
END:VEVENT
BEGIN:VEVENT
DTSTART;VALUE=DATE:20180603
DTEND;VALUE=DATE:20180604
DTSTAMP:20260423T110239
CREATED:20210902T082438Z
LAST-MODIFIED:20220420T070934Z
UID:4655-1527984000-1528070399@alrahmahcd.org
SUMMARY:Alrahmah Community Development Annual Ramadan Iftar
DESCRIPTION:A time for spiritual connection\, a time for families and other communities to share and enjoy the month of Ramadan wisdoms\, London.
URL:https://alrahmahcd.org/event/alrahmah-community-development-annual-ramadan-iftar/
LOCATION:London\, United Kingdom
CATEGORIES:Alrahmah Events
ATTACH;FMTTYPE=image/png:https://alrahmahcd.org/wp-content/uploads/2021/07/IMG_1155.png
END:VEVENT
BEGIN:VEVENT
DTSTART;VALUE=DATE:20180422
DTEND;VALUE=DATE:20180423
DTSTAMP:20260423T110239
CREATED:20210701T130619Z
LAST-MODIFIED:20220420T071002Z
UID:4227-1524355200-1524441599@alrahmahcd.org
SUMMARY:Al Rahmah City Link Coventry
DESCRIPTION:
URL:https://alrahmahcd.org/event/al-rahmah-city-link/
LOCATION:Coventry
CATEGORIES:Alrahmah Events
ATTACH;FMTTYPE=image/jpeg:https://alrahmahcd.org/wp-content/uploads/2021/07/IMG_4140-scaled.jpg
END:VEVENT
BEGIN:VEVENT
DTSTART;VALUE=DATE:20180331
DTEND;VALUE=DATE:20180401
DTSTAMP:20260423T110239
CREATED:20210701T125957Z
LAST-MODIFIED:20220420T071045Z
UID:4219-1522454400-1522540799@alrahmahcd.org
SUMMARY:Al Rahmah Group Umrah
DESCRIPTION:
URL:https://alrahmahcd.org/event/al-rahmah-group-umrah-31/
LOCATION:Saudi Arabia\, Saudi Arabia
CATEGORIES:Alrahmah Events
ATTACH;FMTTYPE=image/jpeg:https://alrahmahcd.org/wp-content/uploads/2021/07/0d230f83-b72f-40b1-a68d-7c464432d643.jpg
END:VEVENT
BEGIN:VEVENT
DTSTART;VALUE=DATE:20180329
DTEND;VALUE=DATE:20180330
DTSTAMP:20260423T110239
CREATED:20211013T071020Z
LAST-MODIFIED:20220420T071120Z
UID:4886-1522281600-1522367999@alrahmahcd.org
SUMMARY:Alrahmah citylink Oxford. 29th March 2018
DESCRIPTION:Alrahmah citylink Oxford. 29th March 2018
URL:https://alrahmahcd.org/event/alrahmah-citylink-oxford-29th-march-2018/
LOCATION:United Kingdom\, United Kingdom
CATEGORIES:Alrahmah Events
ATTACH;FMTTYPE=image/jpeg:https://alrahmahcd.org/wp-content/uploads/2021/10/IMG_20211027_190107.jpg
END:VEVENT
BEGIN:VEVENT
DTSTART;VALUE=DATE:20180304
DTEND;VALUE=DATE:20180305
DTSTAMP:20260423T110239
CREATED:20210701T125315Z
LAST-MODIFIED:20220420T071151Z
UID:4211-1520121600-1520207999@alrahmahcd.org
SUMMARY:Umrah Group Dinner
DESCRIPTION:
URL:https://alrahmahcd.org/event/umrah-group-dinner/
LOCATION:London\, United Kingdom
CATEGORIES:Alrahmah Events
ATTACH;FMTTYPE=image/jpeg:https://alrahmahcd.org/wp-content/uploads/2021/07/a66c3c7e-3ad9-4cf7-aa2e-61598933d757.jpg
END:VEVENT
BEGIN:VEVENT
DTSTART;VALUE=DATE:20170916
DTEND;VALUE=DATE:20170917
DTSTAMP:20260423T110239
CREATED:20210701T104820Z
LAST-MODIFIED:20220420T071213Z
UID:4201-1505520000-1505606399@alrahmahcd.org
SUMMARY:Al Rahmah Cemetery Grand Opening
DESCRIPTION:
URL:https://alrahmahcd.org/event/al-rahmah-cemetery-grand-opening/
LOCATION:London\, United Kingdom
CATEGORIES:Alrahmah Events
ATTACH;FMTTYPE=image/jpeg:https://alrahmahcd.org/wp-content/uploads/2021/07/IMG_9113.jpg
END:VEVENT
BEGIN:VEVENT
DTSTART;VALUE=DATE:20170901
DTEND;VALUE=DATE:20170902
DTSTAMP:20260423T110239
CREATED:20210701T101526Z
LAST-MODIFIED:20220420T071228Z
UID:4198-1504224000-1504310399@alrahmahcd.org
SUMMARY:Eid Event
DESCRIPTION:
URL:https://alrahmahcd.org/event/eid-event/
LOCATION:London\, United Kingdom
CATEGORIES:Alrahmah Events
ATTACH;FMTTYPE=image/png:https://alrahmahcd.org/wp-content/uploads/2021/07/IMG_1171.png
END:VEVENT
BEGIN:VEVENT
DTSTART;VALUE=DATE:20170610
DTEND;VALUE=DATE:20170611
DTSTAMP:20260423T110239
CREATED:20210701T105118Z
LAST-MODIFIED:20220420T071238Z
UID:4204-1497052800-1497139199@alrahmahcd.org
SUMMARY:Annual Ramadan Iftar
DESCRIPTION:
URL:https://alrahmahcd.org/event/annual-ramadan-iftar-2/
LOCATION:London\, United Kingdom
CATEGORIES:Alrahmah Events
ATTACH;FMTTYPE=image/png:https://alrahmahcd.org/wp-content/uploads/2021/07/IMG_1155.png
END:VEVENT
BEGIN:VEVENT
DTSTART;VALUE=DATE:20170402
DTEND;VALUE=DATE:20170403
DTSTAMP:20260423T110239
CREATED:20210701T125818Z
LAST-MODIFIED:20220420T071249Z
UID:4217-1491091200-1491177599@alrahmahcd.org
SUMMARY:Al Rahmah Group Umrah
DESCRIPTION:
URL:https://alrahmahcd.org/event/al-rahmah-group-umrah/
LOCATION:Saudi Arabia\, Saudi Arabia
CATEGORIES:Alrahmah Events
ATTACH;FMTTYPE=image/jpeg:https://alrahmahcd.org/wp-content/uploads/2021/07/0d230f83-b72f-40b1-a68d-7c464432d643.jpg
END:VEVENT
END:VCALENDAR